BEGIN:VCALENDAR
VERSION:2.0
PRODID:-//Passager Books - ECPv6.15.17.1//NONSGML v1.0//EN
CALSCALE:GREGORIAN
METHOD:PUBLISH
X-ORIGINAL-URL:https://passagerbooks.com
X-WR-CALDESC:Events for Passager Books
REFRESH-INTERVAL;VALUE=DURATION:PT1H
X-Robots-Tag:noindex
X-PUBLISHED-TTL:PT1H
BEGIN:VTIMEZONE
TZID:America/New_York
BEGIN:DAYLIGHT
TZOFFSETFROM:-0500
TZOFFSETTO:-0400
TZNAME:EDT
DTSTART:20250309T070000
END:DAYLIGHT
BEGIN:STANDARD
TZOFFSETFROM:-0400
TZOFFSETTO:-0500
TZNAME:EST
DTSTART:20251102T060000
END:STANDARD
BEGIN:DAYLIGHT
TZOFFSETFROM:-0500
TZOFFSETTO:-0400
TZNAME:EDT
DTSTART:20260308T070000
END:DAYLIGHT
BEGIN:STANDARD
TZOFFSETFROM:-0400
TZOFFSETTO:-0500
TZNAME:EST
DTSTART:20261101T060000
END:STANDARD
BEGIN:DAYLIGHT
TZOFFSETFROM:-0500
TZOFFSETTO:-0400
TZNAME:EDT
DTSTART:20270314T070000
END:DAYLIGHT
BEGIN:STANDARD
TZOFFSETFROM:-0400
TZOFFSETTO:-0500
TZNAME:EST
DTSTART:20271107T060000
END:STANDARD
END:VTIMEZONE
BEGIN:VEVENT
DTSTART;TZID=America/New_York:20260305T090000
DTEND;TZID=America/New_York:20260307T170000
DTSTAMP:20260420T051101
CREATED:20260129T171039Z
LAST-MODIFIED:20260224T183953Z
UID:14505-1772701200-1772902800@passagerbooks.com
SUMMARY:2026 AWP Conference
DESCRIPTION:9 am – 5 pm Thurs-Sat March 5\, 6 and 7 \n\n\n\nCome see us at AWP! Stop by table #538 at the bookfair to meet some of our authors and editors\, and take advantage of deep discounts on many of our books and subscriptions. \n\n\n\nWe have three opportunities for book signings this year at AWP. On Thursday from 1-3 PM\, meet poet Shirley Brewer\, author of A Little Breast Music. On Friday\, from 1-2 PM\, meet Morgenthau Prize Winner Mark Elber\, signing his poetry collection\, Headstone. On Saturday\, from 12-1 PM\, meet Moira Egan\, author of Hot Flash Sonnets. \n\n\n\n\n\nUnsure about the full conference? AWP offers Saturday-only passes for $25!
URL:https://passagerbooks.com/events/awp-conference/
LOCATION:Baltimore Convention Center\, 1 W Pratt St\, Baltimore\, Maryland\, 21201\, United States
END:VEVENT
BEGIN:VEVENT
DTSTART;TZID=America/New_York:20260306T170000
DTEND;TZID=America/New_York:20260306T190000
DTSTAMP:20260420T051101
CREATED:20260129T164010Z
LAST-MODIFIED:20260211T182500Z
UID:14510-1772816400-1772823600@passagerbooks.com
SUMMARY:Poetry at the Pratt Street Ale House
DESCRIPTION:Join us for a cozy evening of great eats\, drinks\, and poetry! Writers from Passager and Bracken magazines will combine for a poetic back-and-forth of their newly published work. Conversation and Q&A with the writers and editors to follow. AWP attendees can find us right across the street from the conference center. \n\n\n\nFeaturing:John BiggsSarah BrowningWes CarringtonJulie ChoffelMichael DenneyJoanne DurhamRobbie GambleKari Gunter-SeymourAnya KirshbaumJulia LisellaLouhi PohjolaDiana Whitney \n\n\n\nAppetizers and some beverages provided; cash bar available. \n\n\n\nThis is a FREE event but registration is required. \n\n\n\nRegister
URL:https://passagerbooks.com/events/poetry-at-the-pratt-street-ale-house/
LOCATION:Pratt Street Ale House\, 206 W Pratt St\, Baltimore\, Maryland\, 21202\, United States
CATEGORIES:Readings
END:VEVENT
BEGIN:VEVENT
DTSTART;TZID=America/New_York:20260329T140000
DTEND;TZID=America/New_York:20260329T160000
DTSTAMP:20260420T051101
CREATED:20260129T163737Z
LAST-MODIFIED:20260316T152621Z
UID:14513-1774792800-1774800000@passagerbooks.com
SUMMARY:2026 Passager Journal Reading
DESCRIPTION:Join us for an online reading of the new issue of Passager! Featuring poets and fiction writers from the 2026 Winter Issue\, alongside cover artist Harriet Livathinos. \n\n\n\nLively Q&A and conversation with the writers to follow. \n\n\n\nRegister
URL:https://passagerbooks.com/events/save-the-date-2026-passager-journal-reading/
LOCATION:Online via Zoom
CATEGORIES:80,Readings
END:VEVENT
END:VCALENDAR