BEGIN:VCALENDAR
VERSION:2.0
PRODID:-//Passager Books - ECPv6.15.17.1//NONSGML v1.0//EN
CALSCALE:GREGORIAN
METHOD:PUBLISH
X-WR-CALNAME:Passager Books
X-ORIGINAL-URL:https://passagerbooks.com
X-WR-CALDESC:Events for Passager Books
REFRESH-INTERVAL;VALUE=DURATION:PT1H
X-Robots-Tag:noindex
X-PUBLISHED-TTL:PT1H
BEGIN:VTIMEZONE
TZID:America/New_York
BEGIN:DAYLIGHT
TZOFFSETFROM:-0500
TZOFFSETTO:-0400
TZNAME:EDT
DTSTART:20250309T070000
END:DAYLIGHT
BEGIN:STANDARD
TZOFFSETFROM:-0400
TZOFFSETTO:-0500
TZNAME:EST
DTSTART:20251102T060000
END:STANDARD
BEGIN:DAYLIGHT
TZOFFSETFROM:-0500
TZOFFSETTO:-0400
TZNAME:EDT
DTSTART:20260308T070000
END:DAYLIGHT
BEGIN:STANDARD
TZOFFSETFROM:-0400
TZOFFSETTO:-0500
TZNAME:EST
DTSTART:20261101T060000
END:STANDARD
BEGIN:DAYLIGHT
TZOFFSETFROM:-0500
TZOFFSETTO:-0400
TZNAME:EDT
DTSTART:20270314T070000
END:DAYLIGHT
BEGIN:STANDARD
TZOFFSETFROM:-0400
TZOFFSETTO:-0500
TZNAME:EST
DTSTART:20271107T060000
END:STANDARD
END:VTIMEZONE
BEGIN:VEVENT
DTSTART;TZID=America/New_York:20260412T120000
DTEND;TZID=America/New_York:20260503T140000
DTSTAMP:20260420T090451
CREATED:20250826T033220Z
LAST-MODIFIED:20260305T011013Z
UID:13796-1775995200-1777816800@passagerbooks.com
SUMMARY:A Passager Memoir Workshop
DESCRIPTION:4 sessions to help you tell your story Led by Passager Editor Rosanne Singer \n\n\n\n12-2 pm Sundays April 12\, 19\, 26 & May 3 \n\n\n\nDuring this 4-week in-person course\, you’ll discuss memoir selections by Passager authors as models for your own writing\, enjoy tailored writing exercises\, develop your own memoir and offer constructive feedback to your peers.Join us for creativity\, craft and community in a supportive environment. \n\n\n\nMATERIALS\n\n\n\nThis course uses memoir selections by Passager authors as models for your own writing. All materials are provided. \n\n\n\nTIME REQUIREMENTS\n\n\n\n2 hours per week outside of class \n\n\n\nWHO SHOULD TAKE THIS WORKSHOP?\n\n\n\nThis class is designed for generating writing—ideal for beginning writers\, and experienced writers looking to spark new work. By the end of the series\, writers will have drafted a several-page memoir that could be a stand-alone piece or part of a larger work. \n\n\n\nNo prior writing experience is necessary—open to anyone age 50 and older who loves to write or wants to get started. Class size is limited to 10 participants to ensure an engaging experience.  \n\n\n\nABOUT THE INSTRUCTOR\n\n\n\nRosanne Singer joined the Passager staff in 2019 and learned first-hand what goes on behind the scenes at a small press. And not just any small press\, but Passager\, where she has been part of the careful and loving process of reading and choosing material for the twice-yearly journals and individual collections. Rosanne spent 25 years as a teaching artist in the Maryland schools and was part of small arts teams working with wounded warriors and their families at Walter Reed National Military Medical Center and with pediatric patients at Georgetown University Hospital in Washington\, DC. In May 2025 she completed an MFA in Creative Writing and Publishing Arts at University of Baltimore and produced a collection of her poetry titled Home Theater. Poetry and memoir work of hers appears in Allium\, Grist\, The Baltimore Fishbowl and Fatal Flaw Literary Magazine. She has facilitated memoir workshops at Roland Park Place since 2020. \n\n\n\n\n\n\nRegister Now
URL:https://passagerbooks.com/events/a-passager-memoir-workshop/
LOCATION:Baltimore Hebrew Congregation\, 7401 Park Heights Ave.\, Baltimore\, Maryland\, 21208\, United States
CATEGORIES:Workshops
END:VEVENT
END:VCALENDAR